BEGIN:VCALENDAR
PRODID:-//Microsoft Corporation//Outlook 12.0 MIMEDIR//EN
VERSION:2.0
CALSCALE:GREGORIAN
BEGIN:VEVENT
UID: bee9c822-82e3-41bb-aae1-02ac59492e1b
SUMMARY:Avatud uste nädal
DTSTAMP:20260511
DTSTART:20260511
DTEND:20260516
DURATION:P5D
LOCATION:
DESCRIPTION: <h3>🌟 AVATUD USTE NÄDAL VORMSI LASTEAED-PÕHIKOOLIS</h3><h5>📖 Kogu nädala vältel on meie koolimaja avatud kõikidele huvilistele. See on võimalus osaleda koolitunnis ja näha, kuidas käib õppetöö ühes Eesti omapäraseimas koolis.</h5><p data-path-to-node="8,0,0">Koolimaja on avatud ja ootab tundidesse. Palun tundide külastamine eelnevalt registreerida iga aineõpetaja juures <a href="https://www.vormsi.edu.ee/et/tunniplaan">tunniplaani</a> alusel. Õpetajate <a href="https://www.vormsi.edu.ee/et/kontaktid">kontaktid</a> kodulehel.</p><h5>🎓 Reedene erisündmus: 15. mai</h5><p data-path-to-node="10">Nädala lõpetame erilise kohtumisega! Meile tulevad külla vilistlased Kadri Ilves ja Merilyn Juhkam, kes meenutavad enda kooliaega Vormsi koolis.</p><p><strong>Link: </strong>https://www.vormsi.edu.ee/et/sundmuste-kalender/avatud-uste-nadal</p><p><strong>Hind: </strong></p>
STATUS:CONFIRMED
SEQUENCE:3
X-ALT-DESC;FMTTYPE=text/html:<h3>🌟 AVATUD USTE NÄDAL VORMSI LASTEAED-PÕHIKOOLIS</h3><h5>📖 Kogu nädala vältel on meie koolimaja avatud kõikidele huvilistele. See on võimalus osaleda koolitunnis ja näha, kuidas käib õppetöö ühes Eesti omapäraseimas koolis.</h5><p data-path-to-node="8,0,0">Koolimaja on avatud ja ootab tundidesse. Palun tundide külastamine eelnevalt registreerida iga aineõpetaja juures <a href="https://www.vormsi.edu.ee/et/tunniplaan">tunniplaani</a> alusel. Õpetajate <a href="https://www.vormsi.edu.ee/et/kontaktid">kontaktid</a> kodulehel.</p><h5>🎓 Reedene erisündmus: 15. mai</h5><p data-path-to-node="10">Nädala lõpetame erilise kohtumisega! Meile tulevad külla vilistlased Kadri Ilves ja Merilyn Juhkam, kes meenutavad enda kooliaega Vormsi koolis.</p><p><strong>Link: </strong>https://www.vormsi.edu.ee/et/sundmuste-kalender/avatud-uste-nadal</p><p><strong>Hind: </strong></p>
X-MICROSOFT-CDO-BUSYSTATUS:OOF
X-MICROSOFT-CDO-IMPORTANCE:1
X-MICROSOFT-DISALLOW-COUNTER:FALSE
X-MS-OLK-ALLOWEXTERNCHECK:TRUE
X-MS-OLK-CONFTYPE:0
X-MICROSOFT-CDO-ALLDAYEVENT:1
X-MICROSOFT-MSNCALENDAR-ALLDAYEVENT:1
END:VEVENT
END:VCALENDAR